BEGIN:VCALENDAR
PRODID:-//eluceo/ical//2.0/EN
VERSION:2.0
CALSCALE:GREGORIAN
BEGIN:VEVENT
UID:be297559c85c0737dcf6bb61870aec38
DTSTAMP:20260424T065404Z
SUMMARY:Bird Race 2021
DESCRIPTION:Das Bird Race ist ein Sponsorenlauf: Bilden Sie ein Team aus 3
 –4\nPersonen und machen Sie sich auf die Suche nach möglichst vielen\nV
 ogelarten.\n
DTSTART:20210903T190000Z
DTEND:20210904T190000Z
END:VEVENT
END:VCALENDAR
