BEGIN:VCALENDAR
PRODID:-//eluceo/ical//2.0/EN
VERSION:2.0
CALSCALE:GREGORIAN
BEGIN:VEVENT
UID:7626ff0beab1fe64a32537cb7706cb41
DTSTAMP:20260424T065419Z
SUMMARY:Fledermausparadies Naturlehrgebiet
DESCRIPTION:2019 wurden im Naturlehrgebiet die Fledermäuse genauer untersu
 cht.\nVon den 30 einheimischen Arten konnten mindestens 15 nachgewiesen\nw
 erden. Was macht das Naturlehrgebiet für die Fledermäuse so\nbesonders?\
 n
DTSTART:20210827T174500Z
DTEND:20210827T194500Z
END:VEVENT
END:VCALENDAR
