BEGIN:VCALENDAR
PRODID:-//eluceo/ical//2.0/EN
VERSION:2.0
CALSCALE:GREGORIAN
BEGIN:VEVENT
UID:9f6b11dd55e80e341de3e342cea4b04e
DTSTAMP:20260424T065424Z
SUMMARY:Auf Schlangenspuren am Lopper
DESCRIPTION:Der Lopper ist ein Hotspot für Schlangen und Eidechsen. Bei\ng
 ünstigem Wetter können wir am Ufer des Alpnachersees Ringel- und\nWürfe
 lnatter beobachten. An den Hängen des Loppers suchen wir nach\nSchlingnat
 tern und der giftigen Aspisviper.\n
DTSTART:20210710T080000Z
DTEND:20210710T120000Z
END:VEVENT
END:VCALENDAR
