BEGIN:VCALENDAR
PRODID:-//eluceo/ical//2.0/EN
VERSION:2.0
CALSCALE:GREGORIAN
BEGIN:VEVENT
UID:c11a0047eba0a52e5fdf47ec09622edc
DTSTAMP:20260424T065430Z
SUMMARY:Geheimnisvolle Welt der Schnecken
DESCRIPTION:Tauchen Sie ein in die faszinierende Welt der Schnecken\, die v
 iel mehr\nzu bieten hat als die gefrässigen «Rossschnecken» oder die\na
 uffälligen Weinbergschnecken.\n
DTSTART:20210703T070000Z
DTEND:20210703T090000Z
LOCATION:Gishubel 1\, 6022 Grosswangen
GEO:47.143878;8.030119
X-APPLE-STRUCTURED-LOCATION;VALUE=URI;X-ADDRESS=Gishubel 1\, 6022 Grosswang
 en;X-APPLE-RADIUS=49;X-TITLE=:geo:47.143878,8.030119
END:VEVENT
END:VCALENDAR
