BEGIN:VCALENDAR
PRODID:-//eluceo/ical//2.0/EN
VERSION:2.0
CALSCALE:GREGORIAN
BEGIN:VEVENT
UID:4f5f6afa2ad8df3dda0aea27b16b36f6
DTSTAMP:20260424T065437Z
SUMMARY:Ornithologische Weiterbildung 2021 – Modul 4
DESCRIPTION:Wiesenbrüter auf dem Schamserberg\nWiesenbrüter sind in Nöte
 n und finden nur noch an wenigen Orten in\nder Schweiz geeigneten Lebensra
 um. Einer davon ist der Schamserberg im\nNaturpark Beverin.\n
DTSTART;VALUE=DATE:20210703
DTEND;VALUE=DATE:20210705
END:VEVENT
END:VCALENDAR
