BEGIN:VCALENDAR
PRODID:-//eluceo/ical//2.0/EN
VERSION:2.0
CALSCALE:GREGORIAN
BEGIN:VEVENT
UID:046dc8aaf72e898f088fdb36e0460a1f
DTSTAMP:20260424T065444Z
SUMMARY:Der Neuntöter – ein Jäger\, der es dornig mag
DESCRIPTION:Der Neuntöter ist ein Symbol für dornenreiche Hecken geworden
 .\nFrüher sagte man ihm nach\, dass er immer zuerst neun Beutetiere auf\n
 die Dornen spiesse\, bevor er wieder eines verspeise.\n
DTSTART:20210627T102000Z
DTEND:20210627T153000Z
END:VEVENT
END:VCALENDAR
