BEGIN:VCALENDAR
PRODID:-//eluceo/ical//2.0/EN
VERSION:2.0
CALSCALE:GREGORIAN
BEGIN:VEVENT
UID:c344bc0febf3f706868d6e399cf789ab
DTSTAMP:20260424T065451Z
SUMMARY:Paradies Privatgarten
DESCRIPTION:Die Familie Koch legte um ihr Haus einen artenreichen Nutz- und
 \nZiergarten an. Wo vor wenigen Jahr noch ein traditioneller Rasen\ngepfle
 gt wurde\, wachsen heute neben Kräuter und Gemüse zahlreiche\neinheimisc
 he Stauden und Sträucher.\n
DTSTART:20210625T163000Z
DTEND:20210625T183000Z
END:VEVENT
END:VCALENDAR
