BEGIN:VCALENDAR
PRODID:-//eluceo/ical//2.0/EN
VERSION:2.0
CALSCALE:GREGORIAN
BEGIN:VEVENT
UID:24c2e1be00a1218482282890eb67c085
DTSTAMP:20260424T065459Z
SUMMARY:Würzenbach – ein Bach braucht mehr Pfeffer
DESCRIPTION:Der Würzenbach mündet beim Lido in den Vierwaldstättersee. E
 r ist\nder grösste Zufluss des Sees auf Stadtluzerner Boden. Früher war 
 er\nein wichtiges Gewässer für die Seeforelle und floss durch ein\nwunde
 rschönes Flachmoor.\n
DTSTART:20210624T160000Z
DTEND:20210624T173000Z
END:VEVENT
END:VCALENDAR
