BEGIN:VCALENDAR
PRODID:-//eluceo/ical//2.0/EN
VERSION:2.0
CALSCALE:GREGORIAN
BEGIN:VEVENT
UID:6ea5709da80ab6c91102d2fa18589724
DTSTAMP:20260424T065515Z
SUMMARY:Lern- und Erlebniswelt Burgrain
DESCRIPTION:Beim Biohof Burgrain in Alberswil entsteht aus dem statischen\n
 Agrarmuseum Burgrain eine interaktive Lern- und Erlebniswelt rund um\ndie 
 Themen nachhaltige Landwirtschaft und Lebensmittelproduktion –\ngestern\
 , heute und morgen.\n
DTSTART:20210618T163000Z
DTEND:20210618T190000Z
END:VEVENT
END:VCALENDAR
