BEGIN:VCALENDAR
PRODID:-//eluceo/ical//2.0/EN
VERSION:2.0
CALSCALE:GREGORIAN
BEGIN:VEVENT
UID:50d2031f6c6103653875242ed7e10d56
DTSTAMP:20260424T065522Z
SUMMARY:GEO-Tag der Natur 2021 rund um den Bürgenstock
DESCRIPTION:Am GEO-Tag der Natur wird in einem festgelegten Gebiet die gesa
 mte\nArtenvielfalt dokumentiert.\n
DTSTART:20210618T160000Z
DTEND:20210619T180000Z
LOCATION:Schwibogen 4\, 6362 Stans
GEO:46.967760;8.367918
X-APPLE-STRUCTURED-LOCATION;VALUE=URI;X-ADDRESS=Schwibogen 4\, 6362 Stans;X
 -APPLE-RADIUS=49;X-TITLE=:geo:46.967760,8.367918
END:VEVENT
END:VCALENDAR
