BEGIN:VCALENDAR
PRODID:-//eluceo/ical//2.0/EN
VERSION:2.0
CALSCALE:GREGORIAN
BEGIN:VEVENT
UID:5e7fc8c20440e19d6363f8ff6ce0ad95
DTSTAMP:20260424T065532Z
SUMMARY:Wer quakt in Teich und Weiher?
DESCRIPTION:Gemeinsam gehen wir auf Forschungstour durchs Naturlehrgebiet. 
 Wir\nsuchen und beobachten verschiedene Amphibienarten. Wie können wir di
 e\nArten im Naturlehrgebiet unterscheiden?\n
DTSTART:20210616T120000Z
DTEND:20210616T140000Z
LOCATION:Unnamed Road\, 6022 Grosswangen
GEO:47.143825;8.030009
X-APPLE-STRUCTURED-LOCATION;VALUE=URI;X-ADDRESS=Unnamed Road\, 6022 Grosswa
 ngen;X-APPLE-RADIUS=49;X-TITLE=:geo:47.143825,8.030009
END:VEVENT
END:VCALENDAR
