BEGIN:VCALENDAR
PRODID:-//eluceo/ical//2.0/EN
VERSION:2.0
CALSCALE:GREGORIAN
BEGIN:VEVENT
UID:bc02a107d25e083cd38d933ffb319bfd
DTSTAMP:20260424T065542Z
SUMMARY:Stockmätteli – Einblicke in ein Gartenparadies
DESCRIPTION:2005 erwarben Ursi Heller und Peter Rutschmann das damals dürf
 tige\nWiesland mit einem renovationsbedürftigen Holzhaus. Im respektvolle
 n\nZusammenspiel mit der Natur bearbeiten\, gestalten und fördern sie die
 \nUmgebung seither.\n
DTSTART:20210613T110000Z
DTEND:20210613T150000Z
LOCATION:Stockmätteli\, 6163 Ebnet
GEO:47.029017;8.068852
X-APPLE-STRUCTURED-LOCATION;VALUE=URI;X-ADDRESS=Stockmätteli\, 6163 Ebnet;
 X-APPLE-RADIUS=49;X-TITLE=:geo:47.029017,8.068852
END:VEVENT
END:VCALENDAR
