BEGIN:VCALENDAR
PRODID:-//eluceo/ical//2.0/EN
VERSION:2.0
CALSCALE:GREGORIAN
BEGIN:VEVENT
UID:f2e551ea3e6e232d91409a31fb175021
DTSTAMP:20260422T105601Z
SUMMARY:Ornithologische Weiterbildung 2021 – Modul 3
DESCRIPTION:Geheimnisvolle Waldschnepfen im Entlebuch\n
DTSTART;VALUE=DATE:20210612
DTEND;VALUE=DATE:20210614
END:VEVENT
END:VCALENDAR
