BEGIN:VCALENDAR
PRODID:-//eluceo/ical//2.0/EN
VERSION:2.0
CALSCALE:GREGORIAN
BEGIN:VEVENT
UID:ffdb2ed4d7891f53a515428c21664b30
DTSTAMP:20260422T105435Z
SUMMARY:Abendspaziergang «Mausohr flieg!»
DESCRIPTION:Im Dachstock der Kapelle St. Ottilien übersommert ein lebendig
 er\nTrupp Grosser Mausohr-Weibchen. Im Juni bringen sie hier die Jungen\nz
 ur Welt. In der geschützten Wochenstube profitieren die Kleinen von\nder 
 gegenseitigen Wärme.\n
DTSTART:20210610T181500Z
DTEND:20210610T200000Z
LOCATION:Sankt Ottilien 3\, 6018 Buttisholz
GEO:47.101833;8.100041
X-APPLE-STRUCTURED-LOCATION;VALUE=URI;X-ADDRESS=Sankt Ottilien 3\, 6018 But
 tisholz;X-APPLE-RADIUS=49;X-TITLE=:geo:47.101833,8.100041
END:VEVENT
END:VCALENDAR
