BEGIN:VCALENDAR
PRODID:-//eluceo/ical//2.0/EN
VERSION:2.0
CALSCALE:GREGORIAN
BEGIN:VEVENT
UID:542ddb775463bb1814cd2097ee2c1f64
DTSTAMP:20260424T065639Z
SUMMARY:Tag der offenen Tür im Naturlehrgebiet
DESCRIPTION:Heute dreht sich im Naturlehrgebiet alles um das Hermelin. Kind
 er\,\nFamilien und Interessierte können auf einem Postenlauf durchs Gebie
 t\nVerblüffendes\, Unbekanntes und Faszinierendes rund um diesen\nheimlic
 hen\, flinken Heckenbewohner entdecken.\n
DTSTART:20210530T080000Z
DTEND:20210530T150000Z
LOCATION:Gishubel 1\, 6022 Grosswangen
GEO:47.143857;8.030241
X-APPLE-STRUCTURED-LOCATION;VALUE=URI;X-ADDRESS=Gishubel 1\, 6022 Grosswang
 en;X-APPLE-RADIUS=49;X-TITLE=:geo:47.143857,8.030241
END:VEVENT
END:VCALENDAR
