BEGIN:VCALENDAR
PRODID:-//eluceo/ical//2.0/EN
VERSION:2.0
CALSCALE:GREGORIAN
BEGIN:VEVENT
UID:4084ef5df4ea137eb5ddbc7475bab313
DTSTAMP:20260424T065654Z
SUMMARY:Biodiversitätstag beim Fluebergweiher
DESCRIPTION:Am Biodiversitätstag beim Melchnauer Fluebergweiher steht der\
 ngrosszügig aufgewertete Landschaftsraum an der Rot im Zentrum.\nVerschie
 dene Vereine und Organisationen bieten je nach aktueller Lage\nErlebnis- u
 nd Infostände zum Thema Biodiversität an.\n
DTSTART:20210530T070000Z
DTEND:20210530T150000Z
LOCATION:Sandgrubenstrasse 9\, 6146 Grossdietwil
GEO:47.174057;7.883427
X-APPLE-STRUCTURED-LOCATION;VALUE=URI;X-ADDRESS=Sandgrubenstrasse 9\, 6146 
 Grossdietwil;X-APPLE-RADIUS=49;X-TITLE=:geo:47.174057,7.883427
END:VEVENT
END:VCALENDAR
