BEGIN:VCALENDAR
PRODID:-//eluceo/ical//2.0/EN
VERSION:2.0
CALSCALE:GREGORIAN
BEGIN:VEVENT
UID:5f12db31977f19666ad8331c7461f4e4
DTSTAMP:20260424T065712Z
SUMMARY:Grosse Fontanne – artenreiches Naturgebiet
DESCRIPTION:Wandern Sie mit uns von den Quellen bis zum Fluss\, vorbei an w
 ilden\nWaldbächen und im Flussbett der mäandrierenden Grossen Fontanne. 
 Wir\nhören dabei Interessantes zur Ökologie dieser Lebensräume und\nsch
 lüpfen in die Rolle der Gewässerbiologen.\n
DTSTART:20210529T073500Z
DTEND:20210529T150000Z
END:VEVENT
END:VCALENDAR
