BEGIN:VCALENDAR
PRODID:-//eluceo/ical//2.0/EN
VERSION:2.0
CALSCALE:GREGORIAN
BEGIN:VEVENT
UID:1fe80714cd1ea0813b836171befd606f
DTSTAMP:20260422T110239Z
SUMMARY:Auf den Spuren der Glögglifrösche
DESCRIPTION:Wussten Sie\, dass sich die Männchen der 3\,5–5 cm kleinen\n
 Geburtshelferkröte die Laichschnüre um ihre Hinterbeine wickeln?\nWenn d
 ie Eier reif sind\, bringt das Männchen sie zum Wasser\, wo die\nLarven s
 chlüpfen.\n
DTSTART:20210521T170000Z
DTEND:20210521T193000Z
LOCATION:Schloss Schauensee\, 6010 Kriens
GEO:47.027391;8.281310
X-APPLE-STRUCTURED-LOCATION;VALUE=URI;X-ADDRESS=Schloss Schauensee\, 6010 K
 riens;X-APPLE-RADIUS=49;X-TITLE=:geo:47.027391,8.281310
END:VEVENT
END:VCALENDAR
