BEGIN:VCALENDAR
PRODID:-//eluceo/ical//2.0/EN
VERSION:2.0
CALSCALE:GREGORIAN
BEGIN:VEVENT
UID:9b087158a2f4832dad6c20e2f1919892
DTSTAMP:20260424T065758Z
SUMMARY:ABGESAGT: Ökologische Infrastruktur\, Biodiversitätsstrategie? 
 – Ein Überblick für Luzern
DESCRIPTION:So wie wir für unsere Mobilität über Jahrzehnte eine\nVerkeh
 rsinfrastruktur aufbauten\, brauchen auch Ökosysteme eine\n«Infrastruktu
 r»\, damit sie die unverzichtbaren und unzähligen\nLeistungen erfüllen 
 können.\n
DTSTART:20210506T180000Z
DTEND:20210506T193000Z
LOCATION:Kasernenplatz 6\, 6000 Luzern
GEO:47.051635;8.300946
X-APPLE-STRUCTURED-LOCATION;VALUE=URI;X-ADDRESS=Kasernenplatz 6\, 6000 Luze
 rn;X-APPLE-RADIUS=49;X-TITLE=:geo:47.051635,8.300946
END:VEVENT
END:VCALENDAR
