BEGIN:VCALENDAR
PRODID:-//eluceo/ical//2.0/EN
VERSION:2.0
CALSCALE:GREGORIAN
BEGIN:VEVENT
UID:c4be64eb7882c47e16ca9e458906a81e
DTSTAMP:20260424T065813Z
SUMMARY:Stunde der Gartenvögel
DESCRIPTION:Wie viele Vogelarten besuchen Ihren Garten? Und welche Vögel s
 ind im\nnahen Park zu entdecken? Finden Sie es heraus und begeben Sie sich
  auf\neine Minisafari.\n
DTSTART;VALUE=DATE:20210505
DTEND;VALUE=DATE:20210510
END:VEVENT
END:VCALENDAR
