BEGIN:VCALENDAR
PRODID:-//eluceo/ical//2.0/EN
VERSION:2.0
CALSCALE:GREGORIAN
BEGIN:VEVENT
UID:95aa74b152a4cb25f91a6f00f299a61a
DTSTAMP:20260424T065828Z
SUMMARY:Ornithologische Weiterbildung 2021 – Modul 2
DESCRIPTION:Was singt am Walliser Südhang?\nIn diesem Weiterbildungsmodul 
 erfahren sie mehr.\n
DTSTART;VALUE=DATE:20210504
DTEND;VALUE=DATE:20210510
END:VEVENT
END:VCALENDAR
