BEGIN:VCALENDAR
PRODID:-//eluceo/ical//2.0/EN
VERSION:2.0
CALSCALE:GREGORIAN
BEGIN:VEVENT
UID:939d862da5f95940772737577d941d4a
DTSTAMP:20260424T002820Z
SUMMARY:Zauneidechsen – flinke Allmend-Bewohnerinnen
DESCRIPTION:Die Luzerner Allmend hat sich in den letzten Jahren zu einem\ns
 tadtnahen Naturparadies entwickelt\, das wir auf einem Rundgang\nentdecken
  wollen.\n
DTSTART:20210501T081500Z
DTEND:20210501T100000Z
LOCATION:Bushaltestelle Zihlmattweg\, 6005 Luzern
GEO:47.031211;8.303731
X-APPLE-STRUCTURED-LOCATION;VALUE=URI;X-ADDRESS=Bushaltestelle Zihlmattweg\
 , 6005 Luzern;X-APPLE-RADIUS=49;X-TITLE=:geo:47.031211,8.303731
END:VEVENT
END:VCALENDAR
