BEGIN:VCALENDAR
PRODID:-//eluceo/ical//2.0/EN
VERSION:2.0
CALSCALE:GREGORIAN
BEGIN:VEVENT
UID:817d1b9e5b8018c05d801038965a9289
DTSTAMP:20260424T065857Z
SUMMARY:Der Neuntöter im Winterquartier – Stammgast in der Savanne
DESCRIPTION:Im Gegensatz zur Mehrheit unserer Zugvögel zieht der Neuntöte
 r über\ndie Südostroute bis ins südliche Afrika. Erfahren sie mehr übe
 r\ndiesen Zugvogel.\n
DTSTART:20210429T180000Z
DTEND:20210429T193000Z
LOCATION:Kasernenplatz 6\, 6000 Luzern
GEO:47.051635;8.300946
X-APPLE-STRUCTURED-LOCATION;VALUE=URI;X-ADDRESS=Kasernenplatz 6\, 6000 Luze
 rn;X-APPLE-RADIUS=49;X-TITLE=:geo:47.051635,8.300946
END:VEVENT
END:VCALENDAR
