BEGIN:VCALENDAR
PRODID:-//eluceo/ical//2.0/EN
VERSION:2.0
CALSCALE:GREGORIAN
BEGIN:VEVENT
UID:28d1f2adc8f04827de7f35c4b2650890
DTSTAMP:20260422T124829Z
SUMMARY:Kiebitzbalz in der Wauwiler Ebene
DESCRIPTION:Knapp ein Viertel des Schweizer Kiebitzbestands brütet in der\
 nWauwiler Ebene. Dort führt die Vogelwarte seit 2005 ein\nwissenschaftlic
 h begleitetes Projekt zur Förderung des Kiebitzes\ndurch. Die Exkursion f
 indet zur Zeit der Balz statt.\n
DTSTART:20210403T060000Z
DTEND:20210403T083000Z
LOCATION:Bahnhof\, 6242 Wauwil
GEO:47.183936;8.019087
X-APPLE-STRUCTURED-LOCATION;VALUE=URI;X-ADDRESS=Bahnhof\, 6242 Wauwil;X-APP
 LE-RADIUS=49;X-TITLE=:geo:47.183936,8.019087
END:VEVENT
END:VCALENDAR
