BEGIN:VCALENDAR
PRODID:-//eluceo/ical//2.0/EN
VERSION:2.0
CALSCALE:GREGORIAN
BEGIN:VEVENT
UID:bc4300fa9d9e77539bba01e5916cf7ee
DTSTAMP:20260422T123821Z
SUMMARY:4. "Bördleif" Vogelralley
DESCRIPTION:Bereits zum vierten Mal findet das Bird Race von BirdLife Luzer
 n in\nder Zentralschweiz statt. Wie viele Vogelarten können Sie innerhalb
 \nvon 12 Stunden beobachten?\n
DTSTART:20210327T040000Z
DTEND:20210327T160000Z
LOCATION:Rotseestrasse 18\, 6000 Luzern
GEO:47.067293;8.312368
X-APPLE-STRUCTURED-LOCATION;VALUE=URI;X-ADDRESS=Rotseestrasse 18\, 6000 Luz
 ern;X-APPLE-RADIUS=49;X-TITLE=:geo:47.067293,8.312368
END:VEVENT
END:VCALENDAR
