BEGIN:VCALENDAR
PRODID:-//eluceo/ical//2.0/EN
VERSION:2.0
CALSCALE:GREGORIAN
BEGIN:VEVENT
UID:89a14d37ac99623479f66bc8697a9dff
DTSTAMP:20260424T065932Z
SUMMARY:Riedwiesenpflege im Moosried
DESCRIPTION:Wir räumen das Mähgut einer wertvollen Riedwiese im Schutzgeb
 iet\nMoosried von Hand zusammen und schichten es als Eiablageplätze für
 \ndie Ringelnatter zu Haufen auf. Wer packt mit an?\n
DTSTART:20210710T070000Z
DTEND:20210710T100000Z
LOCATION:Götzentalstrasse\, 6043 Adligenswil
GEO:47.078277;8.393838
X-APPLE-STRUCTURED-LOCATION;VALUE=URI;X-ADDRESS=Götzentalstrasse\, 6043 Ad
 ligenswil;X-APPLE-RADIUS=49;X-TITLE=:geo:47.078277,8.393838
END:VEVENT
END:VCALENDAR
