BEGIN:VCALENDAR
PRODID:-//eluceo/ical//2.0/EN
VERSION:2.0
CALSCALE:GREGORIAN
BEGIN:VEVENT
UID:e6ee45fa997d06ce3fc3cfa8896a44bb
DTSTAMP:20260424T065937Z
SUMMARY:Riedwiesenpflege im Weiherried
DESCRIPTION:Wer hilft uns anzupacken? Wir befreien artenreiche Riedwiesen v
 on\nAdlerfarn\, der in Randbereichen Überhand nimmt.\n
DTSTART:20210623T140000Z
DTEND:20210623T180000Z
LOCATION:Sennpetri\, 6402 Küssnacht
GEO:47.074072;8.398786
X-APPLE-STRUCTURED-LOCATION;VALUE=URI;X-ADDRESS=Sennpetri\, 6402 Küssnacht
 ;X-APPLE-RADIUS=49;X-TITLE=:geo:47.074072,8.398786
END:VEVENT
END:VCALENDAR
