BEGIN:VCALENDAR
PRODID:-//eluceo/ical//2.0/EN
VERSION:2.0
CALSCALE:GREGORIAN
BEGIN:VEVENT
UID:78c6c4cb274499082e7ce545bbffa6c2
DTSTAMP:20260422T105331Z
SUMMARY:Riedwiesenpflege im Schlittenried
DESCRIPTION:Wer hilft uns anzupacken? Wir befreien artenreiche Riedwiesen v
 on\nAdlerfarn\, der in Randbereichen Überhand nimmt.\n
DTSTART:20210612T070000Z
DTEND:20210612T100000Z
LOCATION:
GEO:47.073024;8.401836
X-APPLE-STRUCTURED-LOCATION;VALUE=URI;X-ADDRESS=;X-APPLE-RADIUS=49;X-TITLE=
 :geo:47.073024,8.401836
END:VEVENT
END:VCALENDAR
