BEGIN:VCALENDAR
PRODID:-//eluceo/ical//2.0/EN
VERSION:2.0
CALSCALE:GREGORIAN
BEGIN:VEVENT
UID:ee03b9024713a98026aee3ab2549d309
DTSTAMP:20260424T065949Z
SUMMARY:Naturschönheiten im Gitzitobel
DESCRIPTION:Auf einem geführten Rundgang durch das Waldreservat in der Ge
 meinde\nSchongau entdecken wir die artenreichen Lebensräume\, die auch\ns
 eltenen Tier- und Pflanzenarten ein Überleben sichern.\n
DTSTART:20210530T092500Z
DTEND:20210530T120000Z
LOCATION:
GEO:47.263268;8.273547
X-APPLE-STRUCTURED-LOCATION;VALUE=URI;X-ADDRESS=;X-APPLE-RADIUS=49;X-TITLE=
 :geo:47.263268,8.273547
END:VEVENT
END:VCALENDAR
