BEGIN:VCALENDAR
PRODID:-//eluceo/ical//2.0/EN
VERSION:2.0
CALSCALE:GREGORIAN
BEGIN:VEVENT
UID:25c2b977a0c1d90aabb3c65317cb4da1
DTSTAMP:20260424T065955Z
SUMMARY:Die Grosse Fontanne – Artenreiches Naturgebiet und beliebtes Gold
 wäscher-Ziel
DESCRIPTION:Wandern Sie mit uns von den Quellen bis zum Fluss\, vorbei an w
 ilden\nWaldbächen und durch das Flussbett der Grossen Fontanne.\n
DTSTART:20210529T074500Z
DTEND:20210529T150000Z
LOCATION:
GEO:47.002329;8.012902
X-APPLE-STRUCTURED-LOCATION;VALUE=URI;X-ADDRESS=;X-APPLE-RADIUS=49;X-TITLE=
 :geo:47.002329,8.012902
END:VEVENT
END:VCALENDAR
