BEGIN:VCALENDAR
PRODID:-//eluceo/ical//2.0/EN
VERSION:2.0
CALSCALE:GREGORIAN
BEGIN:VEVENT
UID:8b70c7233a66dbc96db7242b3d503988
DTSTAMP:20260424T070004Z
SUMMARY:Baldeggersee – unterwegs mit den Rangern
DESCRIPTION:Kommen Sie mit auf einen Rundgang mit den Rangern vom Baldegger
 see und\nerlebe das Schutzgebiet auf eine andere Art.\n
DTSTART:20210821T080000Z
DTEND:20210821T100000Z
LOCATION:Seebadstrasse 30\, 6283 Baldegg
GEO:47.186241;8.277154
X-APPLE-STRUCTURED-LOCATION;VALUE=URI;X-ADDRESS=Seebadstrasse 30\, 6283 Bal
 degg;X-APPLE-RADIUS=49;X-TITLE=:geo:47.186241,8.277154
END:VEVENT
END:VCALENDAR
