BEGIN:VCALENDAR
PRODID:-//eluceo/ical//2.0/EN
VERSION:2.0
CALSCALE:GREGORIAN
BEGIN:VEVENT
UID:47148712bc69181a6066cced56b584cb
DTSTAMP:20260424T070013Z
SUMMARY:Baldeggersee – unterwegs mit den Rangern
DESCRIPTION:Kommen Sie mit auf einen Rundgang mit den Rangern vom Baldegger
 see und\nerlebe das Schutzgebiet auf eine andere Art.\n
DTSTART:20210508T121500Z
DTEND:20210508T141500Z
LOCATION:Seebadstrasse 30\, 6283 Baldegg
GEO:47.186241;8.277154
X-APPLE-STRUCTURED-LOCATION;VALUE=URI;X-ADDRESS=Seebadstrasse 30\, 6283 Bal
 degg;X-APPLE-RADIUS=49;X-TITLE=:geo:47.186241,8.277154
END:VEVENT
END:VCALENDAR
