BEGIN:VCALENDAR
PRODID:-//eluceo/ical//2.0/EN
VERSION:2.0
CALSCALE:GREGORIAN
BEGIN:VEVENT
UID:b733059aad75b104820c178f630017df
DTSTAMP:20260422T105331Z
SUMMARY:Ronfeld – Hotspot der Artenvielfalt
DESCRIPTION:Geführte Exkursion ins artenreiche Schutzgebiet Ronfeld\, wo w
 ir die\nGeschichte des Gebiets\, seine Naturwerte und die Herausforderunge
 n\neiner Aufwertung im Kulturland erleben.\n
DTSTART:20210521T160000Z
DTEND:20210521T180000Z
LOCATION:
GEO:47.172942;8.281540
X-APPLE-STRUCTURED-LOCATION;VALUE=URI;X-ADDRESS=;X-APPLE-RADIUS=49;X-TITLE=
 :geo:47.172942,8.281540
END:VEVENT
END:VCALENDAR
