BEGIN:VCALENDAR
PRODID:-//eluceo/ical//2.0/EN
VERSION:2.0
CALSCALE:GREGORIAN
BEGIN:VEVENT
UID:61312df36e338a085f9c34b39be68a24
DTSTAMP:20260424T070108Z
SUMMARY:Pflanzentauschbörse für heimische Wildpflanzen
DESCRIPTION:Pflanzentauschbörse für heimische Wildpflanzen mit anschliess
 ender\nFührung durch den Klostergarten\n
DTSTART:20210508T120000Z
DTEND:20210508T160000Z
LOCATION:Wesemlinstr. 42\, 6004 Luzern
GEO:47.061598;8.313342
X-APPLE-STRUCTURED-LOCATION;VALUE=URI;X-ADDRESS=Wesemlinstr. 42\, 6004 Luze
 rn;X-APPLE-RADIUS=49;X-TITLE=:geo:47.061598,8.313342
END:VEVENT
END:VCALENDAR
