BEGIN:VCALENDAR
PRODID:-//eluceo/ical//2.0/EN
VERSION:2.0
CALSCALE:GREGORIAN
BEGIN:VEVENT
UID:5e959b48914c2d4945a103e9ecaabe55
DTSTAMP:20260422T001912Z
SUMMARY:Giftsammlung Hochdorf für private Haushaltabfälle
DESCRIPTION:Gefährliche Sonderabfälle müssen fachgerecht entsorgt werden
 .\n
DTSTART:20220514T070000Z
DTEND:20220514T100000Z
LOCATION:Sagenbachstrasse 35\, 6280 Hochdorf
GEO:47.169779;8.293823
X-APPLE-STRUCTURED-LOCATION;VALUE=URI;X-ADDRESS=Sagenbachstrasse 35\, 6280 
 Hochdorf;X-APPLE-RADIUS=49;X-TITLE=:geo:47.169779,8.293823
END:VEVENT
END:VCALENDAR
