BEGIN:VCALENDAR
PRODID:-//eluceo/ical//2.0/EN
VERSION:2.0
CALSCALE:GREGORIAN
BEGIN:VEVENT
UID:5b58b2f1788228d6b99fcda4f5ad80f1
DTSTAMP:20260421T210717Z
SUMMARY:Giftsammlung Kriens für private Haushaltabfälle
DESCRIPTION:Gefährliche Sonderabfälle müssen fachgerecht entsorgt werden
 .\n
DTSTART:20220924T080000Z
DTEND:20220924T120000Z
LOCATION:Südstrasse 36\, 6010 Kriens
GEO:47.031261;8.268697
X-APPLE-STRUCTURED-LOCATION;VALUE=URI;X-ADDRESS=Südstrasse 36\, 6010 Krien
 s;X-APPLE-RADIUS=49;X-TITLE=:geo:47.031261,8.268697
END:VEVENT
END:VCALENDAR
