BEGIN:VCALENDAR
PRODID:-//eluceo/ical//2.0/EN
VERSION:2.0
CALSCALE:GREGORIAN
BEGIN:VEVENT
UID:d02164cf3ef999973804ae514bc4561f
DTSTAMP:20260424T070155Z
SUMMARY:Zuger Heimatschutz: Wunden und Narben – Rundgang
DESCRIPTION:Wir trotten zum goldenen Schuh in Niederwil bei Cham.\n
DTSTART;VALUE=DATE:20200822
LOCATION:
GEO:47.212898;8.451913
X-APPLE-STRUCTURED-LOCATION;VALUE=URI;X-ADDRESS=;X-APPLE-RADIUS=49;X-TITLE=
 :geo:47.212898,8.451913
END:VEVENT
END:VCALENDAR
