BEGIN:VCALENDAR
PRODID:-//eluceo/ical//2.0/EN
VERSION:2.0
CALSCALE:GREGORIAN
BEGIN:VEVENT
UID:5f129d77a915fd118808c256c3c575b0
DTSTAMP:20260420T062743Z
SUMMARY:Aktivitäten für Kinder und Jugendliche
DESCRIPTION:Aktivitäten für zu Hause: Es ist Zeit zum Tüfteln\, Basteln\
 ,\nEntdecken und Botanisieren.\n
DTSTART;VALUE=DATE:20200325
DTEND;VALUE=DATE:20200420
END:VEVENT
END:VCALENDAR
