BEGIN:VCALENDAR
PRODID:-//eluceo/ical//2.0/EN
VERSION:2.0
CALSCALE:GREGORIAN
BEGIN:VEVENT
UID:4d67b2eeddda739ae5cbf4490560d587
DTSTAMP:20260420T062341Z
SUMMARY:StayatHome Cinema
DESCRIPTION:Die Filme für die Erde - Crew hat für das Home-Cinema eine Au
 swahl\nan Filmen zusammengestellt.\n
DTSTART;VALUE=DATE:20200324
DTEND;VALUE=DATE:20200420
END:VEVENT
END:VCALENDAR
