BEGIN:VCALENDAR
PRODID:-//eluceo/ical//2.0/EN
VERSION:2.0
CALSCALE:GREGORIAN
BEGIN:VEVENT
UID:ae6fe2a4ab5f8e7afb7c7fb7cdd00885
DTSTAMP:20260422T160737Z
SUMMARY:4-Tägiger Geologiekurs von Ob- und Nidwalden
DESCRIPTION:Ein 4-Tägiger Geologiekurs von Ob- und Nidwalden\n
DTSTART;VALUE=DATE:20200919
LOCATION:
GEO:47.050168;8.309307
X-APPLE-STRUCTURED-LOCATION;VALUE=URI;X-ADDRESS=;X-APPLE-RADIUS=49;X-TITLE=
 :geo:47.050168,8.309307
END:VEVENT
END:VCALENDAR
