BEGIN:VCALENDAR
PRODID:-//eluceo/ical//2.0/EN
VERSION:2.0
CALSCALE:GREGORIAN
BEGIN:VEVENT
UID:35984e78fed9ce7aaecfc8ed4537e8ef
DTSTAMP:20260420T061915Z
SUMMARY:DIY: Wachstücher (vegan)
DESCRIPTION:Wachstücher selber herstellen\; hier lernst Du wie.\n
DTSTART;VALUE=DATE:20200113
LOCATION:
GEO:47.052227;8.307098
X-APPLE-STRUCTURED-LOCATION;VALUE=URI;X-ADDRESS=;X-APPLE-RADIUS=49;X-TITLE=
 :geo:47.052227,8.307098
END:VEVENT
END:VCALENDAR
