BEGIN:VCALENDAR
PRODID:-//eluceo/ical//2.0/EN
VERSION:2.0
CALSCALE:GREGORIAN
BEGIN:VEVENT
UID:c709fff35ae1d83ac29a30099392b1e3
DTSTAMP:20260420T061850Z
SUMMARY:Mensch und Tier unter einem Dach
DESCRIPTION:Flöhe und Borreliose - die Pfahlbauer wurden von zahlreichen\n
 Krankheiten und Parasiten geplagt.\n
DTSTART;VALUE=DATE:20200112
LOCATION:
GEO:47.159711;8.515992
X-APPLE-STRUCTURED-LOCATION;VALUE=URI;X-ADDRESS=;X-APPLE-RADIUS=49;X-TITLE=
 :geo:47.159711,8.515992
END:VEVENT
END:VCALENDAR
