BEGIN:VCALENDAR
PRODID:-//eluceo/ical//2.0/EN
VERSION:2.0
CALSCALE:GREGORIAN
BEGIN:VEVENT
UID:3ea5c25cfa53348ec368e21d1e51e143
DTSTAMP:20260420T045341Z
SUMMARY:DIY: Wachstücher 2
DESCRIPTION:Wachstücher selber herstellen\; hier lernst Du wie.\n
DTSTART;VALUE=DATE:20191210
LOCATION:
GEO:47.048257;8.301480
X-APPLE-STRUCTURED-LOCATION;VALUE=URI;X-ADDRESS=;X-APPLE-RADIUS=49;X-TITLE=
 :geo:47.048257,8.301480
END:VEVENT
END:VCALENDAR
