BEGIN:VCALENDAR
PRODID:-//eluceo/ical//2.0/EN
VERSION:2.0
CALSCALE:GREGORIAN
BEGIN:VEVENT
UID:5824e5a5831fa6bc50bd0920377b20d4
DTSTAMP:20260422T202528Z
SUMMARY:DIY: Wachstücher 1
DESCRIPTION:Wachstücher selber herstellen\; hier lernst Du wie.\n
DTSTART;VALUE=DATE:20191205
LOCATION:
GEO:47.048257;8.301480
X-APPLE-STRUCTURED-LOCATION;VALUE=URI;X-ADDRESS=;X-APPLE-RADIUS=49;X-TITLE=
 :geo:47.048257,8.301480
END:VEVENT
END:VCALENDAR
