BEGIN:VCALENDAR
PRODID:-//eluceo/ical//2.0/EN
VERSION:2.0
CALSCALE:GREGORIAN
BEGIN:VEVENT
UID:d3afea7591e127968cdfd03127916876
DTSTAMP:20260419T195004Z
SUMMARY:Frei\, Fair und Lebendig: Die Macht der Commons
DESCRIPTION:Abendveranstaltung mit Silke Helfrich\n
DTSTART;VALUE=DATE:20190614
LOCATION:
GEO:47.053978;8.341052
X-APPLE-STRUCTURED-LOCATION;VALUE=URI;X-ADDRESS=;X-APPLE-RADIUS=49;X-TITLE=
 :geo:47.053978,8.341052
END:VEVENT
END:VCALENDAR
