BEGIN:VCALENDAR
PRODID:-//eluceo/ical//2.0/EN
VERSION:2.0
CALSCALE:GREGORIAN
BEGIN:VEVENT
UID:4367f4f8501252c70900a2a068913437
DTSTAMP:20260419T195141Z
SUMMARY:Fashion Revolution Week
DESCRIPTION:Fashion Revolution Week findet in Luzern vom 28.4 bis am 28.4 s
 tatt.\n
DTSTART;VALUE=DATE:20190423
DTEND;VALUE=DATE:20190429
END:VEVENT
END:VCALENDAR
