BEGIN:VCALENDAR
PRODID:-//eluceo/ical//2.0/EN
VERSION:2.0
CALSCALE:GREGORIAN
BEGIN:VEVENT
UID:2431b18f4b406d9b814dce65ab7ff15c
DTSTAMP:20260419T194839Z
SUMMARY:Reparatur- und Upcyclingwettbewerb
DESCRIPTION:Schick uns dein bestes Reparaturfoto bis am 25. November 2018 u
 nd\ngewinne tolle Preise.\n
DTSTART;VALUE=DATE:20181125
END:VEVENT
END:VCALENDAR
