BEGIN:VCALENDAR
PRODID:-//eluceo/ical//2.0/EN
VERSION:2.0
CALSCALE:GREGORIAN
BEGIN:VEVENT
UID:7a7d97c0b4a0a53bdcc1bf434edd10ca
DTSTAMP:20260419T180043Z
SUMMARY:Faszination Edelsteine und Kristalle
DESCRIPTION:Funkelnde Edelsteine und Kristalle ziehen die Menschen seit\nJa
 hrtausenden magisch an.\n
DTSTART;VALUE=DATE:20180810
LOCATION:
GEO:47.160073;8.515251
X-APPLE-STRUCTURED-LOCATION;VALUE=URI;X-ADDRESS=;X-APPLE-RADIUS=49;X-TITLE=
 :geo:47.160073,8.515251
END:VEVENT
END:VCALENDAR
