BEGIN:VCALENDAR
PRODID:-//eluceo/ical//2.0/EN
VERSION:2.0
CALSCALE:GREGORIAN
BEGIN:VEVENT
UID:1f9eaf00332ca805a220b25ff6225047
DTSTAMP:20260419T180346Z
SUMMARY:Seltene Metalle für die digitale Welt
DESCRIPTION:rund um den wachsenden Verbrauch von Edel- und Spezialmetallen\
 n
DTSTART;VALUE=DATE:20180615
LOCATION:
GEO:47.160073;8.515251
X-APPLE-STRUCTURED-LOCATION;VALUE=URI;X-ADDRESS=;X-APPLE-RADIUS=49;X-TITLE=
 :geo:47.160073,8.515251
END:VEVENT
END:VCALENDAR
