BEGIN:VCALENDAR
PRODID:-//eluceo/ical//2.0/EN
VERSION:2.0
CALSCALE:GREGORIAN
BEGIN:VEVENT
UID:f50d4389057da8cc3920a687db5d33a9
DTSTAMP:20260419T180346Z
SUMMARY:Öffentliche Führung durch die Sonderausstellung BodenSchätzeWert
 e
DESCRIPTION:Rundgang durch die Sonderausstellung «BodenSchätzeWerte - Uns
 er\nUmgang mit Rohstoffen».\n
DTSTART;VALUE=DATE:20180615
LOCATION:
GEO:47.160214;8.516268
X-APPLE-STRUCTURED-LOCATION;VALUE=URI;X-ADDRESS=;X-APPLE-RADIUS=49;X-TITLE=
 :geo:47.160214,8.516268
END:VEVENT
END:VCALENDAR
